BEGIN:VCALENDAR
VERSION:2.0
PRODID:-//Library Market//iCal Export//EN
BEGIN:VEVENT
SUMMARY:Newborns in Need of WNY
UID:6203
DTSTAMP:20260421T181700Z
DTSTART:20260423T220000Z
DTEND:20260424T000000Z
LOCATION:23 East Avenue, Lockport, NY 14094, United States
ROOM: Community Meeting Room
DESCRIPTION:Meeting.
URL:https://www.lockportlibrary.org/event/newborns-need-wny-6203
END:VEVENT
END:VCALENDAR
