BEGIN:VCALENDAR
VERSION:2.0
PRODID:-//Library Market//iCal Export//EN
BEGIN:VEVENT
SUMMARY:Citizens&#039; Climate Lobby
UID:6204
DTSTAMP:20260421T200300Z
DTSTART:20260518T220000Z
DTEND:20260519T000000Z
LOCATION:23 East Avenue, Lockport, NY 14094, United States
ROOM: Community Meeting Room
DESCRIPTION:Meeting.
URL:https://www.lockportlibrary.org/event/citizens-climate-lobby-6204
END:VEVENT
END:VCALENDAR
